BEGIN:VCALENDAR
VERSION:2.0
PRODID:-//wp-events-plugin.com//7.2.3.1//EN
TZID:Europe/Zurich
X-WR-TIMEZONE:Europe/Zurich
BEGIN:VEVENT
UID:7262@afmr.ch
DTSTART;TZID=Europe/Zurich:20260208T163000
DTEND;TZID=Europe/Zurich:20260208T183000
DTSTAMP:20260121T123921Z
URL:https://www.afmr.ch/events/spectacle-magico-au-theatre-de-beausobre-mo
 rges-des-9-ans/
SUMMARY:Spectacle "Magico" au Théâtre de Beausobre\, Morges - dès 9 ans 
 - COMPLET
DESCRIPTION:\nEst-ce qu’il y a un truc ? Oui\, ça s’appelle la magie. 
 Alors venez chercher le truc avec Magico.\nTour à tour magicien\, prestid
 igitateur\, illusionniste\, cartomane\, Jean-François Tuberosi rivalise d
 ’ingéniosité pour vous embarquer dans les étoiles.\nHumour\, improvis
 ation\, mentalisme\, tours de cartes… un best of dynamique où le public
  choisit les tours.\nUn moment unique\, interactif et imprévisible\, pour
  tout âge et sans limite.\nParticipation : gratuite\, entrées offertes p
 ar le théâtre de Beausobre - NOMBRE DE PLACES LIMITÉ\nNous remercions i
 nfiniment notre sponsor\, le Théâtre de Beausobre\, de nous offrir cette
  belle sortie\net vous remercions de jouer le jeu en achetant vos consomma
 tions/collations sur place.\nRendez-vous à 16h30 devant l'entrée du thé
 âtre.\nLe spectacle commence à 17h. Durée environ 1h15.\nAnimatrice : C
 aroline 078 246 79 76
CATEGORIES:Pour nos membres
LOCATION:Théâtre de Beausobre\, Av. de Vertou 2\, Morges\, 1110\, Suisse
GEO:46.516543;6.499856
X-APPLE-STRUCTURED-LOCATION;VALUE=URI;X-ADDRESS=Av. de Vertou 2\, Morges\, 
 1110\, Suisse;X-APPLE-RADIUS=100;X-TITLE=Théâtre de Beausobre:geo:46.516
 543,6.499856
END:VEVENT
BEGIN:VTIMEZONE
TZID:Europe/Zurich
X-LIC-LOCATION:Europe/Zurich
BEGIN:STANDARD
DTSTART:20251026T020000
TZOFFSETFROM:+0200
TZOFFSETTO:+0100
TZNAME:CET
END:STANDARD
END:VTIMEZONE
END:VCALENDAR